BEGIN:VCALENDAR
VERSION:2.0
PRODID:-//wp-events-plugin.com//6.4.6.4//EN
BEGIN:VEVENT
UID:278@hitchinnomads.cc
DTSTART;TZID=Europe/London:20250517T140000
DTEND;TZID=Europe/London:20250517T170000
DTSTAMP:20250415T194502Z
URL:https://hitchinnomads.cc/events/2025-05-17
SUMMARY:HNCC open 10
DESCRIPTION:Course: F15/10 (Brogborough) - https://www.cyclingtimetrials.or
 g.uk/courses/296-f-15-10\n\nEntries: https://www.cyclingtimetrials.org.uk/
 events/32008-hitchin-nomads-cc-10\nHQ will be at Brogborough village hall\
 , but please note car parking will be at Ridgmont Train station\, 5 mins w
 alk away.
CATEGORIES:Time Trial
LOCATION:https://www.cyclingtimetrials.org.uk/course-details/f2d-10
END:VEVENT
BEGIN:VTIMEZONE
TZID:Europe/London
X-LIC-LOCATION:Europe/London
BEGIN:DAYLIGHT
DTSTART:20250330T020000
TZOFFSETFROM:+0000
TZOFFSETTO:+0100
TZNAME:BST
END:DAYLIGHT
END:VTIMEZONE
END:VCALENDAR