BEGIN:VCALENDAR
VERSION:2.0
PRODID:-//wp-events-plugin.com//6.4.6.4//EN
BEGIN:VEVENT
UID:290@hitchinnomads.cc
DTSTART;TZID=Europe/London:20250720T090000
DTEND;TZID=Europe/London:20250720T103000
DTSTAMP:20250303T205000Z
URL:https://hitchinnomads.cc/events/2025-07-20
SUMMARY:Inter-club 25 (CCA)
DESCRIPTION:Strictly a 27.6 distance\n\nCourse: F14/25 (Wrestlingworth circ
 uit) - https://www.plotaroute.com/route/346807\n\nCycle Club Ashwell event
 s listing.
CATEGORIES:Time Trial
LOCATION:https://www.plotaroute.com/route/346807
END:VEVENT
BEGIN:VTIMEZONE
TZID:Europe/London
X-LIC-LOCATION:Europe/London
BEGIN:DAYLIGHT
DTSTART:20250330T020000
TZOFFSETFROM:+0000
TZOFFSETTO:+0100
TZNAME:BST
END:DAYLIGHT
END:VTIMEZONE
END:VCALENDAR