BEGIN:VCALENDAR
VERSION:2.0
PRODID:-//wp-events-plugin.com//6.4.6.4//EN
BEGIN:VEVENT
UID:298@hitchinnomads.cc
DTSTART;TZID=Europe/London:20251226T110000
DTEND;TZID=Europe/London:20251226T120000
DTSTAMP:20250220T224825Z
URL:https://hitchinnomads.cc/events/boxing-day-11-1
SUMMARY:Boxing Day 11.1
DESCRIPTION:1U/11 (Ireland) or a minor variant - https://www.plotaroute.com
 /route/1362893\n\nPlease enter Nomads club events in advance if possible\,
  via the relevant posting in our Facebook group.
CATEGORIES:Time Trial
LOCATION:https://www.plotaroute.com/route/1362893
END:VEVENT
BEGIN:VTIMEZONE
TZID:Europe/London
X-LIC-LOCATION:Europe/London
BEGIN:STANDARD
DTSTART:20251026T010000
TZOFFSETFROM:+0100
TZOFFSETTO:+0000
TZNAME:GMT
END:STANDARD
END:VTIMEZONE
END:VCALENDAR